BEGIN:VCALENDAR
VERSION:2.0
PRODID:-//Plone.org//NONSGML plone.app.event//EN
X-WR-TIMEZONE:US/Central
BEGIN:VEVENT
SUMMARY:Storytime - Valentine's Day
DTSTART;TZID=US/Central:20230209T103000
DTEND;TZID=US/Central:20230209T113000
DTSTAMP:20260420T103145Z
UID:b044537da3f74dab8413c5f0814796a3@saas_stack_varnish:6080
CONTACT:409-986-7814\, hitchcockpubliclibrary@gmail.com
CREATED:20230124T185154Z
LAST-MODIFIED:20230124T191527Z
LOCATION:Hitchcock Public Library
URL:https://www.hitchcockpubliclibrary.org/storytime-valentines-day
END:VEVENT
BEGIN:VTIMEZONE
TZID:US/Central
X-LIC-LOCATION:US/Central
BEGIN:STANDARD
DTSTART:20221106T010000
TZNAME:CST
TZOFFSETFROM:-0500
TZOFFSETTO:-0600
END:STANDARD
END:VTIMEZONE
END:VCALENDAR
