BEGIN:VCALENDAR
VERSION:2.0
PRODID:-//Plone.org//NONSGML plone.app.event//EN
X-WR-TIMEZONE:US/Central
BEGIN:VEVENT
SUMMARY:Story Time - Love
DTSTART;TZID=US/Central:20240201T103000
DTEND;TZID=US/Central:20240201T110000
DTSTAMP:20260420T084030Z
UID:251d890fa7a84db7bd2be45ae673ad24@saas_stack_varnish:6080
CONTACT:Brittany Tatyrek\, 409-986-7814\, hitchcockpubliclibrary@gmail.com
CREATED:20240123T202622Z
LAST-MODIFIED:20240123T202628Z
LOCATION:Hitchcock Public Library
URL:https://www.hitchcockpubliclibrary.org/story-time-love
END:VEVENT
BEGIN:VTIMEZONE
TZID:US/Central
X-LIC-LOCATION:US/Central
BEGIN:STANDARD
DTSTART:20231105T010000
TZNAME:CST
TZOFFSETFROM:-0500
TZOFFSETTO:-0600
END:STANDARD
END:VTIMEZONE
END:VCALENDAR
