BEGIN:VCALENDAR
VERSION:2.0
PRODID:-//Plone.org//NONSGML plone.app.event//EN
X-WR-TIMEZONE:US/Central
BEGIN:VEVENT
SUMMARY:SRP - Craft Day
DTSTART;TZID=US/Central:20230621T130000
DTEND;TZID=US/Central:20230621T140000
DTSTAMP:20260421T081207Z
UID:20b78736a28b434e89004944e5512e7e@saas_stack_varnish:6080
CONTACT:409-986-7814\, hitchcockpubliclibrary@gmail.com
CREATED:20230511T180514Z
LAST-MODIFIED:20230511T180522Z
LOCATION:Hitchcock Public Library
URL:https://www.hitchcockpubliclibrary.org/srp-craft-day
END:VEVENT
BEGIN:VTIMEZONE
TZID:US/Central
X-LIC-LOCATION:US/Central
BEGIN:DAYLIGHT
DTSTART:20230312T030000
TZNAME:CDT
TZOFFSETFROM:-0600
TZOFFSETTO:-0500
END:DAYLIGHT
END:VTIMEZONE
END:VCALENDAR
