BEGIN:VCALENDAR
VERSION:2.0
PRODID:-//Plone.org//NONSGML plone.app.event//EN
X-WR-TIMEZONE:US/Central
BEGIN:VEVENT
SUMMARY:SRP- Sherlock Holmes
DTSTART;TZID=US/Central:20120710T140000
DTEND;TZID=US/Central:20120710T150000
DTSTAMP:20260424T084420Z
UID:29679a5c211f0e89c351364c2fbf8cab@saas_stack_varnish:6080
CONTACT:Jennie Phillips\, 409-986-7814
CREATED:20120510T154306Z
LAST-MODIFIED:20120510T154326Z
LOCATION:Hitchcock Library
URL:https://www.hitchcockpubliclibrary.org/news-events/lib-cal/srp-sherloc
 k-holmes.ics
END:VEVENT
BEGIN:VTIMEZONE
TZID:US/Central
X-LIC-LOCATION:US/Central
BEGIN:DAYLIGHT
DTSTART:20120311T030000
TZNAME:CDT
TZOFFSETFROM:-0600
TZOFFSETTO:-0500
END:DAYLIGHT
END:VTIMEZONE
END:VCALENDAR
