BEGIN:VCALENDAR
VERSION:2.0
PRODID:-//Plone.org//NONSGML plone.app.event//EN
X-WR-TIMEZONE:US/Central
BEGIN:VEVENT
SUMMARY:Experiment w/Elephant Toothpaste
DTSTART;TZID=US/Central:20200702T130000
DTEND;TZID=US/Central:20200702T140000
DTSTAMP:20260424T155127Z
UID:377d1acbcdd0468b9d8e6b02a2558c25@saas_stack_varnish:6080
CONTACT:Joyce Kleimann\, 409-986-7814
CREATED:20200619T001740Z
LAST-MODIFIED:20200619T001745Z
LOCATION:Virtual-Facebook
URL:https://www.hitchcockpubliclibrary.org/news-events/lib-cal/experiment-
 w-elephant-toothpaste
END:VEVENT
BEGIN:VTIMEZONE
TZID:US/Central
X-LIC-LOCATION:US/Central
BEGIN:DAYLIGHT
DTSTART:20200308T030000
TZNAME:CDT
TZOFFSETFROM:-0600
TZOFFSETTO:-0500
END:DAYLIGHT
END:VTIMEZONE
END:VCALENDAR
