BEGIN:VCALENDAR
VERSION:2.0
PRODID:-//Plone.org//NONSGML plone.app.event//EN
X-WR-TIMEZONE:US/Central
BEGIN:VEVENT
SUMMARY:Book/Rummage Sale
DTSTART;TZID=US/Central:20130402T100000
DTEND;TZID=US/Central:20130406T150000
DTSTAMP:20260420T084414Z
UID:5a9b6320b9563d790601153cd86055cd@saas_stack_varnish:6080
CONTACT:409-986-7814
CREATED:20130306T183456Z
LAST-MODIFIED:20130306T183715Z
LOCATION:library
URL:https://www.hitchcockpubliclibrary.org/news-events/lib-cal/book-rummag
 e-sale.ics
END:VEVENT
BEGIN:VTIMEZONE
TZID:US/Central
X-LIC-LOCATION:US/Central
BEGIN:DAYLIGHT
DTSTART:20130310T030000
TZNAME:CDT
TZOFFSETFROM:-0600
TZOFFSETTO:-0500
END:DAYLIGHT
END:VTIMEZONE
END:VCALENDAR
