BEGIN:VCALENDAR
VERSION:2.0
PRODID:-//Plone.org//NONSGML plone.app.event//EN
X-WR-TIMEZONE:US/Central
BEGIN:VEVENT
SUMMARY:July Calendar
DTSTART;TZID=US/Central:20250701T110000
DTEND;TZID=US/Central:20250720T000000
DTSTAMP:20260420T121612Z
UID:b033ecfd2d1c4b2fa8b6f016cbb7a3ed@saas_stack_varnish:6080
CREATED:20250529T193324Z
DESCRIPTION:Check out our 2025 Summer Reading Program!\nEarn fun prizes fo
 r reading this summer! And check out all these fun & FREE events! \nJoin u
 s Saturday\, June 7th at 11 am for our Summer Reading Program Kick Off Day
 ! Sign up for our 6 week program\, check out your first batch of books\, g
 rab a popsicle\, play some games\, visit the museums\, meet some animals a
 t the petting zoo and more! \nSign up now for the Summer Reading Program o
 n the Beanstack app! \nHitchcockpubliclibrary.beanstack.org\n*All events b
 egin at 11 am and are subject to change*
LAST-MODIFIED:20250529T193335Z
LOCATION:Hitchcock Library
URL:https://www.hitchcockpubliclibrary.org/news-events/july-calendar
END:VEVENT
BEGIN:VTIMEZONE
TZID:US/Central
X-LIC-LOCATION:US/Central
BEGIN:DAYLIGHT
DTSTART:20250309T030000
TZNAME:CDT
TZOFFSETFROM:-0600
TZOFFSETTO:-0500
END:DAYLIGHT
END:VTIMEZONE
END:VCALENDAR
