BEGIN:VCALENDAR
VERSION:2.0
PRODID:-//Plone.org//NONSGML plone.app.event//EN
X-WR-TIMEZONE:US/Central
BEGIN:VEVENT
SUMMARY:Story Time
DTSTART;TZID=US/Central:20240905T103000
DTEND;TZID=US/Central:20240905T230000
DTSTAMP:20260419T123119Z
UID:3592721942fc40aa9be484e970d484fc@saas_stack_varnish:6080
CREATED:20240824T165831Z
DESCRIPTION:Join us for Story Time on Thursdays at 10:30 am!
LAST-MODIFIED:20240824T170419Z
LOCATION:Hitchcock Public Library
URL:https://www.hitchcockpubliclibrary.org/kids-teens/story-time
END:VEVENT
BEGIN:VTIMEZONE
TZID:US/Central
X-LIC-LOCATION:US/Central
BEGIN:DAYLIGHT
DTSTART:20240310T030000
TZNAME:CDT
TZOFFSETFROM:-0600
TZOFFSETTO:-0500
END:DAYLIGHT
END:VTIMEZONE
END:VCALENDAR
