BEGIN:VCALENDAR
VERSION:2.0
PRODID:-//Plone.org//NONSGML plone.app.event//EN
X-WR-TIMEZONE:US/Central
BEGIN:VEVENT
SUMMARY:"I Know am Old Lady Who Swallowed a Pie" Storytime
DTSTART;TZID=US/Central:20191121T110000
DTEND;TZID=US/Central:20191121T113000
DTSTAMP:20260421T082833Z
UID:b4952c70f637409fa3df01d3e04afa0f@saas_stack_varnish:6080
ATTENDEE;CN="ages 1- 5";ROLE=REQ-PARTICIPANT:ages 1- 5
CONTACT:Joyce L. Kleimann\, 4099867814\, Hitchpl@comcast.net
CREATED:20191030T210323Z
LAST-MODIFIED:20191030T210328Z
LOCATION:Hitchcock Library
URL:https://www.hitchcockpubliclibrary.org/i-know-am-old-lady-who-swallowe
 d-a-pie-storytime
END:VEVENT
BEGIN:VTIMEZONE
TZID:US/Central
X-LIC-LOCATION:US/Central
BEGIN:STANDARD
DTSTART:20191103T010000
TZNAME:CST
TZOFFSETFROM:-0500
TZOFFSETTO:-0600
END:STANDARD
END:VTIMEZONE
END:VCALENDAR
