BEGIN:VCALENDAR
VERSION:2.0
PRODID:-//Plone.org//NONSGML plone.app.event//EN
X-WR-TIMEZONE:US/Central
BEGIN:VEVENT
SUMMARY:FB SRP Galveston Bay Animals
DTSTART;TZID=US/Central:20210714T130000
DTEND;TZID=US/Central:20210714T133000
DTSTAMP:20260421T082953Z
UID:b0b910ee662d4c6db17ff59b21eb65d8@saas_stack_varnish:6080
ATTENDEE;CN="ages 2 to 12";ROLE=REQ-PARTICIPANT:ages 2 to 12
CONTACT:Joyce L. Kleimann\, 14099867814\, hitchpl@comcast.net
CREATED:20210504T204446Z
LAST-MODIFIED:20210602T140220Z
LOCATION:Facebook: Hitchcock Public Library
URL:https://www.hitchcockpubliclibrary.org/fb-srp-galveston-bay-animals
END:VEVENT
BEGIN:VTIMEZONE
TZID:US/Central
X-LIC-LOCATION:US/Central
BEGIN:DAYLIGHT
DTSTART:20210314T030000
TZNAME:CDT
TZOFFSETFROM:-0600
TZOFFSETTO:-0500
END:DAYLIGHT
END:VTIMEZONE
END:VCALENDAR
