BEGIN:VCALENDAR
VERSION:2.0
PRODID:-//Plone.org//NONSGML plone.app.event//EN
X-WR-TIMEZONE:US/Central
BEGIN:VEVENT
SUMMARY:Dungeons & Dragons
DTSTART;TZID=US/Central:20240411T150000
DTEND;TZID=US/Central:20240411T170000
DTSTAMP:20260422T090131Z
UID:5d7a1c3ad5d74e0fb7acb70f62684545@saas_stack_varnish:6080
CONTACT:409-986-7814\, hitchcockpubliclibrary@gmail.com
CREATED:20240402T161845Z
LAST-MODIFIED:20240402T171850Z
LOCATION:Hitchcock Public Library
URL:https://www.hitchcockpubliclibrary.org/dungeons-dragons-2
END:VEVENT
BEGIN:VTIMEZONE
TZID:US/Central
X-LIC-LOCATION:US/Central
BEGIN:DAYLIGHT
DTSTART:20240310T030000
TZNAME:CDT
TZOFFSETFROM:-0600
TZOFFSETTO:-0500
END:DAYLIGHT
END:VTIMEZONE
END:VCALENDAR
